BEGIN:VCALENDAR
VERSION:2.0
PRODID:-//JohnTalk - ECPv6.15.20//NONSGML v1.0//EN
CALSCALE:GREGORIAN
METHOD:PUBLISH
X-ORIGINAL-URL:https://www.johntalk.com
X-WR-CALDESC:Events for JohnTalk
REFRESH-INTERVAL;VALUE=DURATION:PT1H
X-Robots-Tag:noindex
X-PUBLISHED-TTL:PT1H
BEGIN:VTIMEZONE
TZID:America/New_York
BEGIN:DAYLIGHT
TZOFFSETFROM:-0500
TZOFFSETTO:-0400
TZNAME:EDT
DTSTART:20250309T070000
END:DAYLIGHT
BEGIN:STANDARD
TZOFFSETFROM:-0400
TZOFFSETTO:-0500
TZNAME:EST
DTSTART:20251102T060000
END:STANDARD
BEGIN:DAYLIGHT
TZOFFSETFROM:-0500
TZOFFSETTO:-0400
TZNAME:EDT
DTSTART:20260308T070000
END:DAYLIGHT
BEGIN:STANDARD
TZOFFSETFROM:-0400
TZOFFSETTO:-0500
TZNAME:EST
DTSTART:20261101T060000
END:STANDARD
BEGIN:DAYLIGHT
TZOFFSETFROM:-0500
TZOFFSETTO:-0400
TZNAME:EDT
DTSTART:20270314T070000
END:DAYLIGHT
BEGIN:STANDARD
TZOFFSETFROM:-0400
TZOFFSETTO:-0500
TZNAME:EST
DTSTART:20271107T060000
END:STANDARD
END:VTIMEZONE
BEGIN:VEVENT
DTSTART;TZID=America/New_York:20260106T080000
DTEND;TZID=America/New_York:20260107T160000
DTSTAMP:20260421T070901
CREATED:20250925T135944Z
LAST-MODIFIED:20250925T135944Z
UID:10000021-1767686400-1767801600@www.johntalk.com
SUMMARY:Michigan Onsite Wastewater Conference
DESCRIPTION:Registration Deadline: January 1\, 2026 – 11:59PM \n\nContact: ANR Event Services\, events@anr.msu.edu \nThe Michigan Onsite Wastewater Conference is a two-day educational conference for the industry including septic tank service providers/pumpers\, portable toilet service companies\, local public health\, engineers\, consultants\, installation contractors and other interested parties. Learn the latest in onsite wastewater industry trends\, regulatory changes\, wastewater management options and the latest technologies. Organized as a joint venture by the Michigan Onsite Wastewater Recycling Association (MOWRA)\, the Michigan Department of Environment\, Great Lakes and Energy (EGLE)\, the Michigan Environmental Health Association (MEHA) and Michigan State University (MSU)\, this two-day conference is designed to educate those involved in the onsite wastewater field. \nAttendees have the ability to earn CSE credit hours (Pending Approval by EGLE) by attending the conference. \nRegister
URL:https://www.johntalk.com/event/michigan-onsite-wastewater-conference/
LOCATION:Kellogg Hotel and Conference Center\, 219 S. Harrison Road\, East Lansing\, MI\, 48824\, United States
ATTACH;FMTTYPE=image/jpeg:https://www.johntalk.com/wp-content/uploads/2025/09/OWC-LOGO.jpg
END:VEVENT
BEGIN:VEVENT
DTSTART;TZID=America/New_York:20260115T100000
DTEND;TZID=America/New_York:20260116T173000
DTSTAMP:20260421T070901
CREATED:20250925T140543Z
LAST-MODIFIED:20250925T140543Z
UID:10000022-1768471200-1768584600@www.johntalk.com
SUMMARY:EUROTOI 2026
DESCRIPTION:After welcoming over 700 professional visitors at our last event\, we’re excited to continue what works: bringing together the right people from across the industry. You’ll meet decision-makers from toilet\, tent and construction rental companies\, municipalities\, private and public organizations\, and the event sector – all looking for mobile sanitation systems\, specialized trailers\, and fleet management solutions. It’s about real conversations and genuine connections that lead to business. \nLearn more
URL:https://www.johntalk.com/event/eurotoi-2026/
LOCATION:ring°boulevard am Nürburgring\, Nürburgring Boulevard 1\, Nürburgring\, 53520\, Germany
ATTACH;FMTTYPE=image/png:https://www.johntalk.com/wp-content/uploads/2025/09/eurotoi_international_logo_11788.png
END:VEVENT
BEGIN:VEVENT
DTSTART;TZID=America/New_York:20260123T070000
DTEND;TZID=America/New_York:20260124T160000
DTSTAMP:20260421T070901
CREATED:20251112T143109Z
LAST-MODIFIED:20251112T143323Z
UID:10000026-1769151600-1769270400@www.johntalk.com
SUMMARY:Septic-Con
DESCRIPTION:SEPTIC-CON typically brings together about 65 exhibitors and around 750 attendees representing businesses that range from equipment through services. Over 45 classes are offered on topics ranging from general on-site education to the installation and operation and maintenance of onsite sewage systems\, to classes for pumpers and industry-related business. \nAttendee Registration
URL:https://www.johntalk.com/event/septic-con/
LOCATION:Greater Tacoma Convention Center\, 1500 Commerce St\, Tacoma\, WA\, 98402\, United States
ATTACH;FMTTYPE=image/png:https://www.johntalk.com/wp-content/uploads/2025/11/Sept-Con-Logo-NODATES.png
END:VEVENT
BEGIN:VEVENT
DTSTART;TZID=America/New_York:20260129T120000
DTEND;TZID=America/New_York:20260131T163000
DTSTAMP:20260421T070901
CREATED:20251112T133840Z
LAST-MODIFIED:20251112T133840Z
UID:10000025-1769688000-1769877000@www.johntalk.com
SUMMARY:OASIS Annual Conference & Trade Show
DESCRIPTION:Get ready for Ontario’s largest hauled sewage\, septic\, and portable toilet event of the year! \nJoin us at Casino Rama Resort for our 2026 Conference and Trade Show—a must-attend event for those involved in the on-site wastewater and portable sanitation industries. This is your opportunity to connect\, learn\, and grow your business in a dynamic and engaging environment. Don’t miss your chance to be part of the conversations—and the deals—that shape our industry. \nTo learn more and to register visit: https://oasisontario.on.ca/annual-oasis-conference-trade-show/
URL:https://www.johntalk.com/event/oasis-annual-conference-trade-show/
LOCATION:Casino Rama Resort\, 5899 Rama Rd\, Orillia\, Ontario\, L3V 6H6\, Canada
ATTACH;FMTTYPE=image/png:https://www.johntalk.com/wp-content/uploads/2025/11/images.png
END:VEVENT
END:VCALENDAR