BEGIN:VCALENDAR
VERSION:2.0
PRODID:-//JohnTalk - ECPv6.15.20//NONSGML v1.0//EN
CALSCALE:GREGORIAN
METHOD:PUBLISH
X-ORIGINAL-URL:https://www.johntalk.com
X-WR-CALDESC:Events for JohnTalk
REFRESH-INTERVAL;VALUE=DURATION:PT1H
X-Robots-Tag:noindex
X-PUBLISHED-TTL:PT1H
BEGIN:VTIMEZONE
TZID:America/New_York
BEGIN:DAYLIGHT
TZOFFSETFROM:-0500
TZOFFSETTO:-0400
TZNAME:EDT
DTSTART:20240310T070000
END:DAYLIGHT
BEGIN:STANDARD
TZOFFSETFROM:-0400
TZOFFSETTO:-0500
TZNAME:EST
DTSTART:20241103T060000
END:STANDARD
BEGIN:DAYLIGHT
TZOFFSETFROM:-0500
TZOFFSETTO:-0400
TZNAME:EDT
DTSTART:20250309T070000
END:DAYLIGHT
BEGIN:STANDARD
TZOFFSETFROM:-0400
TZOFFSETTO:-0500
TZNAME:EST
DTSTART:20251102T060000
END:STANDARD
BEGIN:DAYLIGHT
TZOFFSETFROM:-0500
TZOFFSETTO:-0400
TZNAME:EDT
DTSTART:20260308T070000
END:DAYLIGHT
BEGIN:STANDARD
TZOFFSETFROM:-0400
TZOFFSETTO:-0500
TZNAME:EST
DTSTART:20261101T060000
END:STANDARD
END:VTIMEZONE
BEGIN:VEVENT
DTSTART;TZID=America/New_York:20250612T120000
DTEND;TZID=America/New_York:20250612T130000
DTSTAMP:20260421T212720
CREATED:20250605T130904Z
LAST-MODIFIED:20250605T130904Z
UID:10000009-1749729600-1749733200@www.johntalk.com
SUMMARY:PSAI Trailer Talk: The DL on Portable Restroom Trailers
DESCRIPTION:Join panel moderator Wendy Cross (PolyJohn) and panelists Trevor Inman (Honey Bucket) and Josh Perez (Fusion Site Services) for this informative discussion about Portable Restroom Trailers. \nThis 60-minute Virtual Roundtable will feature a moderated panel discussion by industry experts on the topic of Portable Restroom Trailers. \nRegister Here
URL:https://www.johntalk.com/event/psai-trailer-talk-the-dl-on-portable-restroom-trailers/
ATTACH;FMTTYPE=image/png:https://www.johntalk.com/wp-content/uploads/2025/04/psai_logo_tagline_horizontal_right_shadow_hires-2048x945-1.png
END:VEVENT
END:VCALENDAR