BEGIN:VCALENDAR
VERSION:2.0
PRODID:-//JohnTalk - ECPv6.15.20//NONSGML v1.0//EN
CALSCALE:GREGORIAN
METHOD:PUBLISH
X-ORIGINAL-URL:https://www.johntalk.com
X-WR-CALDESC:Events for JohnTalk
REFRESH-INTERVAL;VALUE=DURATION:PT1H
X-Robots-Tag:noindex
X-PUBLISHED-TTL:PT1H
BEGIN:VTIMEZONE
TZID:America/New_York
BEGIN:DAYLIGHT
TZOFFSETFROM:-0500
TZOFFSETTO:-0400
TZNAME:EDT
DTSTART:20240310T070000
END:DAYLIGHT
BEGIN:STANDARD
TZOFFSETFROM:-0400
TZOFFSETTO:-0500
TZNAME:EST
DTSTART:20241103T060000
END:STANDARD
BEGIN:DAYLIGHT
TZOFFSETFROM:-0500
TZOFFSETTO:-0400
TZNAME:EDT
DTSTART:20250309T070000
END:DAYLIGHT
BEGIN:STANDARD
TZOFFSETFROM:-0400
TZOFFSETTO:-0500
TZNAME:EST
DTSTART:20251102T060000
END:STANDARD
BEGIN:DAYLIGHT
TZOFFSETFROM:-0500
TZOFFSETTO:-0400
TZNAME:EDT
DTSTART:20260308T070000
END:DAYLIGHT
BEGIN:STANDARD
TZOFFSETFROM:-0400
TZOFFSETTO:-0500
TZNAME:EST
DTSTART:20261101T060000
END:STANDARD
END:VTIMEZONE
BEGIN:VEVENT
DTSTART;TZID=America/New_York:20250822T130000
DTEND;TZID=America/New_York:20250822T170000
DTSTAMP:20260421T194446
CREATED:20250724T145626Z
LAST-MODIFIED:20250724T145626Z
UID:10000017-1755867600-1755882000@www.johntalk.com
SUMMARY:PSAI Virtual Training: Portable Sanitation and Work Sites – August 22
DESCRIPTION:Portable Sanitation & Work Sites\nProgram Description:\nThis 90-minute course is designed to assist portable sanitation operators and their teams in growing their skills and confidence in serving work site customers. \nLearning Objectives:\nYou will learn:\n\nHow to differentiate needs and best practices for different types of work sites;\nWhat you need to know regarding special types of work sites such as federal installations\, schools\, and big box stores;\nKey considerations in determining the optimal number and types of portable units required for work sites;\nHow to identify both ideal and acceptable placement configuration options at various work sites;\nSpecific behaviors you should employ and those to avoid when placing\, servicing\, and picking up at work sites.\n\nContinuing education:\n\n1.5 Continuing Education Hours (CEH’s)\nPSAI Certificate of Completion automatically available for download in your Learning Center Profile after the program concludes.\n\nThe PSAI has also applied for continuing education credits from the following state portable sanitation regulators:\n\nAlabama Onsite Wastewater Board – pending approval\nGeorgia Department of Public Health – pending approval\nIllinois Department of Public Health – pending approval\nMichigan Department of Environment\, Great Lakes\, & Energy – pending approval\nOhio Department of Health – pending approval\nWisconsin Department of Natural Resources – pending approval\n\nRegister Here
URL:https://www.johntalk.com/event/psai-virtual-training-portable-sanitation-and-work-sites-august-22/
ATTACH;FMTTYPE=image/png:https://www.johntalk.com/wp-content/uploads/2025/04/psai_logo_tagline_horizontal_right_shadow_hires-2048x945-1.png
END:VEVENT
END:VCALENDAR