BEGIN:VCALENDAR
VERSION:2.0
PRODID:-//JohnTalk - ECPv6.15.20//NONSGML v1.0//EN
CALSCALE:GREGORIAN
METHOD:PUBLISH
X-WR-CALNAME:JohnTalk
X-ORIGINAL-URL:https://www.johntalk.com
X-WR-CALDESC:Events for JohnTalk
REFRESH-INTERVAL;VALUE=DURATION:PT1H
X-Robots-Tag:noindex
X-PUBLISHED-TTL:PT1H
BEGIN:VTIMEZONE
TZID:America/New_York
BEGIN:DAYLIGHT
TZOFFSETFROM:-0500
TZOFFSETTO:-0400
TZNAME:EDT
DTSTART:20240310T070000
END:DAYLIGHT
BEGIN:STANDARD
TZOFFSETFROM:-0400
TZOFFSETTO:-0500
TZNAME:EST
DTSTART:20241103T060000
END:STANDARD
BEGIN:DAYLIGHT
TZOFFSETFROM:-0500
TZOFFSETTO:-0400
TZNAME:EDT
DTSTART:20250309T070000
END:DAYLIGHT
BEGIN:STANDARD
TZOFFSETFROM:-0400
TZOFFSETTO:-0500
TZNAME:EST
DTSTART:20251102T060000
END:STANDARD
BEGIN:DAYLIGHT
TZOFFSETFROM:-0500
TZOFFSETTO:-0400
TZNAME:EDT
DTSTART:20260308T070000
END:DAYLIGHT
BEGIN:STANDARD
TZOFFSETFROM:-0400
TZOFFSETTO:-0500
TZNAME:EST
DTSTART:20261101T060000
END:STANDARD
END:VTIMEZONE
BEGIN:VEVENT
DTSTART;TZID=America/New_York:20250716T100000
DTEND;TZID=America/New_York:20250716T110000
DTSTAMP:20260421T212639
CREATED:20250625T140647Z
LAST-MODIFIED:20250625T140647Z
UID:10000011-1752660000-1752663600@www.johntalk.com
SUMMARY:Virtual Roundtable – PSAI Member Health Insurance Plan Options
DESCRIPTION:Program Description\nThis 60-minute Virtual Roundtable will help you understand all the health insurance plans available to PSAI members through our provider\, Bona Vita. Whether you’re exploring coverage for the first time or looking to make a change\, this session will answer your questions so you can choose the plan that best fits your needs. \nWe will begin with a high-level overview of all the options available to PSAI member small and medium-sized businesses as they pertain to health benefits for employees. This portion will focus on detailing the pro’s and con’s of the following approaches: \n\nDo nothing (let employees go it alone)\nICHRA’s\nCommunity rated small group plans by state\nPEO\nLevel-funded programs as an individual employer\nAssociation/Affinity programs\n\nWe will then do a deeper dive into the features\, benefits and potential savings that are available in the PSAI Health Benefit Program. \nSpeaker\nTerence Gorman\, VP of Benefits\, Bona Vita \nHow to Register\nThis program is free to PSAI members and non-members! It will be hosted by our health insurance provider\, Bona Vita\, so please click the “Register Here Via Zoom” button below to save your spot! \n  \nREGISTER HERE VIA ZOOM!
URL:https://www.johntalk.com/event/virtual-roundtable-psai-member-health-insurance-plan-options/
ATTACH;FMTTYPE=image/png:https://www.johntalk.com/wp-content/uploads/2025/04/psai_logo_tagline_horizontal_right_shadow_hires-2048x945-1.png
END:VEVENT
END:VCALENDAR