BEGIN:VCALENDAR
VERSION:2.0
PRODID:-//JohnTalk - ECPv6.15.20//NONSGML v1.0//EN
CALSCALE:GREGORIAN
METHOD:PUBLISH
X-ORIGINAL-URL:https://www.johntalk.com
X-WR-CALDESC:Events for JohnTalk
REFRESH-INTERVAL;VALUE=DURATION:PT1H
X-Robots-Tag:noindex
X-PUBLISHED-TTL:PT1H
BEGIN:VTIMEZONE
TZID:America/New_York
BEGIN:DAYLIGHT
TZOFFSETFROM:-0500
TZOFFSETTO:-0400
TZNAME:EDT
DTSTART:20240310T070000
END:DAYLIGHT
BEGIN:STANDARD
TZOFFSETFROM:-0400
TZOFFSETTO:-0500
TZNAME:EST
DTSTART:20241103T060000
END:STANDARD
BEGIN:DAYLIGHT
TZOFFSETFROM:-0500
TZOFFSETTO:-0400
TZNAME:EDT
DTSTART:20250309T070000
END:DAYLIGHT
BEGIN:STANDARD
TZOFFSETFROM:-0400
TZOFFSETTO:-0500
TZNAME:EST
DTSTART:20251102T060000
END:STANDARD
BEGIN:DAYLIGHT
TZOFFSETFROM:-0500
TZOFFSETTO:-0400
TZNAME:EDT
DTSTART:20260308T070000
END:DAYLIGHT
BEGIN:STANDARD
TZOFFSETFROM:-0400
TZOFFSETTO:-0500
TZNAME:EST
DTSTART:20261101T060000
END:STANDARD
END:VTIMEZONE
BEGIN:VEVENT
DTSTART;TZID=America/New_York:20250520T080000
DTEND;TZID=America/New_York:20250520T093000
DTSTAMP:20260422T002735
CREATED:20250423T185230Z
LAST-MODIFIED:20250423T185230Z
UID:10000007-1747728000-1747733400@www.johntalk.com
SUMMARY:PSAI Virtual Training - Preparing for Extremes - Heat & Warm Weather - May 20\, 2025
DESCRIPTION:Program Description:\nThis 90-minute course is designed to assist portable sanitation operators and their teams in dealing with extreme heat and other natural disasters (such as wildfires and drought). \nLearning Objectives:\nYou will learn: \n\nThe key considerations and optimal tactics for placing and servicing units subject to hot temperatures (85 degrees F/29 degrees C or above).\nTo identify acceptable tactics for securing units in windy conditions.\nHow to create (or assist in the creation of) a hazard preparedness plan for their company.\nThe unique issues and considerations in providing portable sanitation during or after a natural disaster.\n\nTrainer:\nJamie Gunderson\n\nJamie started in the portable sanitation industry in 1998 in Northern Idaho as a yard guy. Since then\, he has held various positions including route driver\, pickup and delivery driver\, outside sales\, inside sales and various levels of management. Jamie has worked for several companies over the years but has found his way back to where he started at Honey Bucket as the Operations Manager for East Texas based out of Conroe\, TX. He is a PSAI certified trainer and a volunteer on the PSAI Training Committee. \n\nContinuing education:\n\n1.5 Continuing Education Hours (CEH’s)\nPSAI Certificate of Completion automatically available for download in your Learning Center Profile after the program concludes.\n\nThe PSAI has also applied for continuing education credits from the following state portable sanitation regulators:\n\nAlabama Onsite Wastewater Board – pending approval\nGeorgia Department of Public Health – pending approval\nIllinois Department of Public Health – pending approval\nMichigan Department of Environment\, Great Lakes\, & Energy – pending approval\nOhio Department of Health – pending approval\nWisconsin Department of Natural Resources – pending approval\n\nRegister Here
URL:https://www.johntalk.com/event/psai-virtual-training-preparing-for-extremes-heat-warm-weather-may-20-2025/
ATTACH;FMTTYPE=image/png:https://www.johntalk.com/wp-content/uploads/2025/04/psai_logo_tagline_horizontal_right_shadow_hires-2048x945-1.png
END:VEVENT
END:VCALENDAR